
BEGIN:VCALENDAR
PRODID:www.srh-fachschulen.de-1758
VERSION:2.0
METHOD:PUBLISH
BEGIN:VEVENT
UID:news-1758@www.srh-fachschulen.de
SUMMARY:Online-Infotag: Ausbildung im Fachbereich Ergotherapie Standort Karlsruhe
DESCRIPTION:Du interessierst dich für die Ausbildung Ergotherapie? Dann
LOCATION:
DTSTART:20260505T180000
DTEND:
DTSTAMP:20260417T140342
END:VEVENT
END:VCALENDAR

