
BEGIN:VCALENDAR
PRODID:www.srh-fachschulen.de-1759
VERSION:2.0
METHOD:PUBLISH
BEGIN:VEVENT
UID:news-1759@www.srh-fachschulen.de
SUMMARY:Online-Infoabend: Logopädie-Ausbildung und -Studium in Karlsruhe
DESCRIPTION:Du interessierst dich für die Ausbildung Logopädie oder das
LOCATION:
DTSTART:20260505T180000
DTEND:
DTSTAMP:20260417T140441
END:VEVENT
END:VCALENDAR

