
BEGIN:VCALENDAR
PRODID:www.srh-fachschulen.de-1678
VERSION:2.0
METHOD:PUBLISH
BEGIN:VEVENT
UID:news-1678@www.srh-fachschulen.de
SUMMARY:Online-Infoabend: Ergotherapie-Ausbildung in Bad Bentheim
DESCRIPTION:Du interessierst dich für die Ausbildung als Staatlich
LOCATION:
DTSTART:20260423T180000
DTEND:
DTSTAMP:20260413T143456
END:VEVENT
END:VCALENDAR

