
BEGIN:VCALENDAR
PRODID:www.srh-fachschulen.de-1751
VERSION:2.0
METHOD:PUBLISH
BEGIN:VEVENT
UID:news-1751@www.srh-fachschulen.de
SUMMARY:Online-Infoabend: Diätassistenz/Ernährungstherapie in Heidelberg
DESCRIPTION:Du interessierst dich für die Ausbildung als
LOCATION:
DTSTART:20260505T170000
DTEND:
DTSTAMP:20260417T135320
END:VEVENT
END:VCALENDAR

