
BEGIN:VCALENDAR
PRODID:www.srh-fachschulen.de-1757
VERSION:2.0
METHOD:PUBLISH
BEGIN:VEVENT
UID:news-1757@www.srh-fachschulen.de
SUMMARY:Online-Infoabend Physiotherapie o. Massage Ausbildung
DESCRIPTION:Du interessierst dich für die Physiotherapie/Massage
LOCATION:
DTSTART:20260506T170000
DTEND:
DTSTAMP:20260417T140210
END:VEVENT
END:VCALENDAR

