
BEGIN:VCALENDAR
PRODID:www.srh-fachschulen.de-1768
VERSION:2.0
METHOD:PUBLISH
BEGIN:VEVENT
UID:news-1768@www.srh-fachschulen.de
SUMMARY:Online-Infoabend: Ausbildung Jugend- und Heimerziehung oder Studiengang Soziale Arbeit (B.A.)
DESCRIPTION:Du interessierst dich für die Ausbildung als Erzieher:in,
LOCATION:
DTSTART:20260505T180000
DTEND:
DTSTAMP:20260417T141443
END:VEVENT
END:VCALENDAR

