
BEGIN:VCALENDAR
PRODID:www.srh-fachschulen.de-1748
VERSION:2.0
METHOD:PUBLISH
BEGIN:VEVENT
UID:news-1748@www.srh-fachschulen.de
SUMMARY:Online-Infoabend: Ausbildung Game- und Multimediaentwicklung
DESCRIPTION:Du interessierst dich für die zweijährige Ausbildung Game-
LOCATION:
DTSTART:20260507T180000
DTEND:
DTSTAMP:20260417T134938
END:VEVENT
END:VCALENDAR

