
BEGIN:VCALENDAR
PRODID:www.srh-fachschulen.de-1752
VERSION:2.0
METHOD:PUBLISH
BEGIN:VEVENT
UID:news-1752@www.srh-fachschulen.de
SUMMARY:Online-Infoabend: Ausbildung als Heilerziehungspfleger:in
DESCRIPTION:Du interessierst dich für die Ausbildung
LOCATION:
DTSTART:20260512T190000
DTEND:
DTSTAMP:20260417T135415
END:VEVENT
END:VCALENDAR

