
BEGIN:VCALENDAR
PRODID:www.srh-fachschulen.de-1749
VERSION:2.0
METHOD:PUBLISH
BEGIN:VEVENT
UID:news-1749@www.srh-fachschulen.de
SUMMARY:Online-Infoabend: Ausbildung 3D-Entwicklung
DESCRIPTION:Du interessierst dich für die Ausbildung 3D-Entwicklung?
LOCATION:
DTSTART:20260528T180000
DTEND:
DTSTAMP:20260417T135117
END:VEVENT
END:VCALENDAR

