
BEGIN:VCALENDAR
PRODID:www.srh-fachschulen.de-1764
VERSION:2.0
METHOD:PUBLISH
BEGIN:VEVENT
UID:news-1764@www.srh-fachschulen.de
SUMMARY:Infotag: Logopädie Ausbildung und Studium in Düsseldorf
DESCRIPTION:Du interessierst dich für die Ausbildung Logopädie und das
LOCATION:
DTSTART:20260509T100000
DTEND:20260418T120000
DTSTAMP:20260417T141013
END:VEVENT
END:VCALENDAR

