
BEGIN:VCALENDAR
PRODID:www.srh-fachschulen.de-1763
VERSION:2.0
METHOD:PUBLISH
BEGIN:VEVENT
UID:news-1763@www.srh-fachschulen.de
SUMMARY:Infotag: Ergotherapie Ausbildung und Studium in Düsseldorf
DESCRIPTION:Du interessierst dich für die Ausbildung Ergotherapie? Dann
LOCATION:
DTSTART:20260528T170000
DTEND:20260509T120000
DTSTAMP:20260417T140903
END:VEVENT
END:VCALENDAR

