
BEGIN:VCALENDAR
PRODID:www.srh-fachschulen.de-1661
VERSION:2.0
METHOD:PUBLISH
BEGIN:VEVENT
UID:news-1661@www.srh-fachschulen.de
SUMMARY:Infosamstag: Logopädie-Ausbildung und -Studium in Karlsruhe  
DESCRIPTION:Erfahre bei unserem Infosamstag am 27.06.2026 um 10:00 Uhr
LOCATION:
DTSTART:20260627T100000
DTEND:20260627T130000
DTSTAMP:20260420T151028
END:VEVENT
END:VCALENDAR

