
BEGIN:VCALENDAR
PRODID:www.srh-fachschulen.de-1747
VERSION:2.0
METHOD:PUBLISH
BEGIN:VEVENT
UID:news-1747@www.srh-fachschulen.de
SUMMARY:Infoabend vor Ort: IT & Medien in Heidelberg
DESCRIPTION:Du interessierst dich für 3D-Design, CrossMediaDesign oder
LOCATION:
DTSTART:20260505T164000
DTEND:
DTSTAMP:20260417T134824
END:VEVENT
END:VCALENDAR

