
BEGIN:VCALENDAR
PRODID:www.srh-fachschulen.de-1760
VERSION:2.0
METHOD:PUBLISH
BEGIN:VEVENT
UID:news-1760@www.srh-fachschulen.de
SUMMARY:Infoabend online oder an unserer Fachschule: Physiotherapie Karlsruhe
DESCRIPTION:Du interessierst dich für die Physiotherapie Ausbildung oder
LOCATION:
DTSTART:20260505T180000
DTEND:
DTSTAMP:20260417T140526
END:VEVENT
END:VCALENDAR

