
BEGIN:VCALENDAR
PRODID:www.srh-fachschulen.de-1753
VERSION:2.0
METHOD:PUBLISH
BEGIN:VEVENT
UID:news-1753@www.srh-fachschulen.de
SUMMARY:Infoabend: Medizinische Dokumentation in Heidelberg
DESCRIPTION:Herzliche Einladung zum Infoabend am SRH Berufskolleg für
LOCATION:
DTSTART:20260512T160000
DTEND:
DTSTAMP:20260417T135528
END:VEVENT
END:VCALENDAR

