
BEGIN:VCALENDAR
PRODID:www.srh-fachschulen.de-1769
VERSION:2.0
METHOD:PUBLISH
BEGIN:VEVENT
UID:news-1769@www.srh-fachschulen.de
SUMMARY:Infoabend Heidelberg Ausbildung Jugend- und Heimerziehung und Studiengang Soziale Arbeit (B.A.)
DESCRIPTION:Du interessierst dich für die Ausbildung als Erzieher:in,
LOCATION:
DTSTART:20260519T150000
DTEND:
DTSTAMP:20260417T141530
END:VEVENT
END:VCALENDAR

