
BEGIN:VCALENDAR
PRODID:www.srh-fachschulen.de-1762
VERSION:2.0
METHOD:PUBLISH
BEGIN:VEVENT
UID:news-1762@www.srh-fachschulen.de
SUMMARY:Infoabend: Erziehung & Sozialassistenz in Frankfurt
DESCRIPTION:Du interessierst dich für die Ausbildung als staatlich
LOCATION:
DTSTART:20260521T170000
DTEND:
DTSTAMP:20260417T140710
END:VEVENT
END:VCALENDAR

