
BEGIN:VCALENDAR
PRODID:www.srh-fachschulen.de-1761
VERSION:2.0
METHOD:PUBLISH
BEGIN:VEVENT
UID:news-1761@www.srh-fachschulen.de
SUMMARY:Infoabend: Erziehung & Sozialassistenz in Frankfurt
DESCRIPTION:Du interessierst dich für die Ausbildung als staatlich
LOCATION:
DTSTART:20260507T170000
DTEND:
DTSTAMP:20260417T140644
END:VEVENT
END:VCALENDAR

