
BEGIN:VCALENDAR
PRODID:www.srh-fachschulen.de-1767
VERSION:2.0
METHOD:PUBLISH
BEGIN:VEVENT
UID:news-1767@www.srh-fachschulen.de
SUMMARY:Infoabend an der Schule: Physiotherapie Leverkusen
DESCRIPTION:Du interessierst dich für die Ausbildung Physiotherapie?
LOCATION:
DTSTART:20260520T170000
DTEND:
DTSTAMP:20260417T141256
END:VEVENT
END:VCALENDAR

