
BEGIN:VCALENDAR
PRODID:www.srh-fachschulen.de-1766
VERSION:2.0
METHOD:PUBLISH
BEGIN:VEVENT
UID:news-1766@www.srh-fachschulen.de
SUMMARY:Infoabend an der Schule: Physiotherapie Leverkusen
DESCRIPTION:Du interessierst dich für die Ausbildung Physiotherapie?
LOCATION:
DTSTART:20260506T170000
DTEND:
DTSTAMP:20260417T141229
END:VEVENT
END:VCALENDAR

